BEGIN:VCALENDAR
VERSION:2.0
PRODID:-//CCGS - ECPv6.15.20//NONSGML v1.0//EN
CALSCALE:GREGORIAN
METHOD:PUBLISH
X-ORIGINAL-URL:https://www.ccgs.wa.edu.au
X-WR-CALDESC:Events for CCGS
REFRESH-INTERVAL;VALUE=DURATION:PT1H
X-Robots-Tag:noindex
X-PUBLISHED-TTL:PT1H
BEGIN:VTIMEZONE
TZID:Australia/Perth
BEGIN:STANDARD
TZOFFSETFROM:+0800
TZOFFSETTO:+0800
TZNAME:AWST
DTSTART:20250101T000000
END:STANDARD
END:VTIMEZONE
BEGIN:VEVENT
DTSTART;TZID=Australia/Perth:20260429T115500
DTEND;TZID=Australia/Perth:20260429T125500
DTSTAMP:20260425T083228
CREATED:20251217T024142Z
LAST-MODIFIED:20260421T045209Z
UID:10024267-1777463700-1777467300@www.ccgs.wa.edu.au
SUMMARY:Year 11 Study Skills
DESCRIPTION:
URL:https://www.ccgs.wa.edu.au/event/year-11-study-skills-5
LOCATION:Various Rooms
CATEGORIES:Senior School Events
END:VEVENT
BEGIN:VEVENT
DTSTART;TZID=Australia/Perth:20260429T124500
DTEND;TZID=Australia/Perth:20260429T170000
DTSTAMP:20260425T083228
CREATED:20251125T233659Z
LAST-MODIFIED:20260420T234736Z
UID:10023937-1777466700-1777482000@www.ccgs.wa.edu.au
SUMMARY:Uniform Shop
DESCRIPTION:
URL:https://www.ccgs.wa.edu.au/event/uniform-shop-611
CATEGORIES:Uniform Shop
END:VEVENT
BEGIN:VEVENT
DTSTART;TZID=Australia/Perth:20260430T083000
DTEND;TZID=Australia/Perth:20260430T093000
DTSTAMP:20260425T083228
CREATED:20250827T005317Z
LAST-MODIFIED:20260421T045212Z
UID:10022884-1777537800-1777541400@www.ccgs.wa.edu.au
SUMMARY:Assembly (Summer Sport Awards-Cups S-C-H)
DESCRIPTION:
URL:https://www.ccgs.wa.edu.au/event/house-meetings-house-arts-rd-3
LOCATION:Chapel
CATEGORIES:Senior School Events
END:VEVENT
BEGIN:VEVENT
DTSTART;TZID=Australia/Perth:20260430T115500
DTEND;TZID=Australia/Perth:20260430T124500
DTSTAMP:20260425T083228
CREATED:20251217T024145Z
LAST-MODIFIED:20260421T045216Z
UID:10024269-1777550100-1777553100@www.ccgs.wa.edu.au
SUMMARY:Year 12 CAP
DESCRIPTION:
URL:https://www.ccgs.wa.edu.au/event/year-12-cap-9
LOCATION:Various\, Sandover
CATEGORIES:Senior School Events
END:VEVENT
BEGIN:VEVENT
DTSTART;TZID=Australia/Perth:20260430T120000
DTEND;TZID=Australia/Perth:20260430T130000
DTSTAMP:20260425T083228
CREATED:20260128T052707Z
LAST-MODIFIED:20260421T045214Z
UID:10025005-1777550400-1777554000@www.ccgs.wa.edu.au
SUMMARY:Pre OQD Lunch
DESCRIPTION:
URL:https://www.ccgs.wa.edu.au/event/pre-oqd-lunch-3
LOCATION:Sandover
CATEGORIES:Senior School Events
END:VEVENT
BEGIN:VEVENT
DTSTART;TZID=Australia/Perth:20260430T124500
DTEND;TZID=Australia/Perth:20260430T150000
DTSTAMP:20260425T083228
CREATED:20251125T233659Z
LAST-MODIFIED:20260420T234736Z
UID:10023938-1777553100-1777561200@www.ccgs.wa.edu.au
SUMMARY:Uniform Shop
DESCRIPTION:
URL:https://www.ccgs.wa.edu.au/event/uniform-shop-612
CATEGORIES:Uniform Shop
END:VEVENT
BEGIN:VEVENT
DTSTART;TZID=Australia/Perth:20260430T151500
DTEND;TZID=Australia/Perth:20260430T171500
DTSTAMP:20260425T083228
CREATED:20260305T225031Z
LAST-MODIFIED:20260420T222133Z
UID:10025218-1777562100-1777569300@www.ccgs.wa.edu.au
SUMMARY:Life of Insects Rehearsal
DESCRIPTION:
URL:https://www.ccgs.wa.edu.au/event/life-of-insects-rehearsal-14
LOCATION:Drama Centre
CATEGORIES:Senior School Music & Drama
END:VEVENT
BEGIN:VEVENT
DTSTART;TZID=Australia/Perth:20260430T193000
DTEND;TZID=Australia/Perth:20260430T210000
DTSTAMP:20260425T083228
CREATED:20251203T233631Z
LAST-MODIFIED:20260420T233210Z
UID:10024107-1777577400-1777582800@www.ccgs.wa.edu.au
SUMMARY:Class/Year Group Rep Meeting
DESCRIPTION:
URL:https://www.ccgs.wa.edu.au/event/class-year-group-rep-meeting-11
LOCATION:Prep Staffroom
CATEGORIES:Parents Events
END:VEVENT
END:VCALENDAR