BEGIN:VCALENDAR
VERSION:2.0
PRODID:-//CCGS - ECPv6.15.20//NONSGML v1.0//EN
CALSCALE:GREGORIAN
METHOD:PUBLISH
X-WR-CALNAME:CCGS
X-ORIGINAL-URL:https://www.ccgs.wa.edu.au
X-WR-CALDESC:Events for CCGS
REFRESH-INTERVAL;VALUE=DURATION:PT1H
X-Robots-Tag:noindex
X-PUBLISHED-TTL:PT1H
BEGIN:VTIMEZONE
TZID:Australia/Perth
BEGIN:STANDARD
TZOFFSETFROM:+0800
TZOFFSETTO:+0800
TZNAME:AWST
DTSTART:20250101T000000
END:STANDARD
END:VTIMEZONE
BEGIN:VEVENT
DTSTART;TZID=Australia/Perth:20261019T183000
DTEND;TZID=Australia/Perth:20261019T200000
DTSTAMP:20260425T184648
CREATED:20251217T024903Z
LAST-MODIFIED:20260421T050438Z
UID:10024485-1792434600-1792440000@www.ccgs.wa.edu.au
SUMMARY:Senior School Art Exhibition Opening Night
DESCRIPTION:
URL:https://www.ccgs.wa.edu.au/event/senior-school-art-exhibition-opening-night-5
LOCATION:Chapel and T Block
CATEGORIES:Senior School Events
END:VEVENT
END:VCALENDAR