BEGIN:VCALENDAR
VERSION:2.0
PRODID:-//CCGS - ECPv6.15.20//NONSGML v1.0//EN
CALSCALE:GREGORIAN
METHOD:PUBLISH
X-WR-CALNAME:CCGS
X-ORIGINAL-URL:https://www.ccgs.wa.edu.au
X-WR-CALDESC:Events for CCGS
REFRESH-INTERVAL;VALUE=DURATION:PT1H
X-Robots-Tag:noindex
X-PUBLISHED-TTL:PT1H
BEGIN:VTIMEZONE
TZID:Australia/Perth
BEGIN:STANDARD
TZOFFSETFROM:+0800
TZOFFSETTO:+0800
TZNAME:AWST
DTSTART:20250101T000000
END:STANDARD
END:VTIMEZONE
BEGIN:VEVENT
DTSTART;TZID=Australia/Perth:20260802T100000
DTEND;TZID=Australia/Perth:20260802T120000
DTSTAMP:20260426T102133
CREATED:20250827T005514Z
LAST-MODIFIED:20260421T045806Z
UID:10022958-1785664800-1785672000@www.ccgs.wa.edu.au
SUMMARY:OQD Program
DESCRIPTION:
URL:https://www.ccgs.wa.edu.au/event/oqd-program-433
LOCATION:Chapel
CATEGORIES:Senior School Events
END:VEVENT
BEGIN:VEVENT
DTSTART;TZID=Australia/Perth:20260803T182000
DTEND;TZID=Australia/Perth:20260803T185000
DTSTAMP:20260426T102133
CREATED:20251217T024541Z
LAST-MODIFIED:20260421T045816Z
UID:10024388-1785781200-1785783000@www.ccgs.wa.edu.au
SUMMARY:Residential Chapel Service and Community Meeting
DESCRIPTION:
URL:https://www.ccgs.wa.edu.au/event/residential-chapel-service-and-community-meeting-119
LOCATION:Chapel
CATEGORIES:Senior School Events
END:VEVENT
BEGIN:VEVENT
DTSTART;TZID=Australia/Perth:20260806T083000
DTEND;TZID=Australia/Perth:20260806T093000
DTSTAMP:20260426T102133
CREATED:20250827T005520Z
LAST-MODIFIED:20260421T045833Z
UID:10022962-1786005000-1786008600@www.ccgs.wa.edu.au
SUMMARY:Assembly - NAIDOC
DESCRIPTION:
URL:https://www.ccgs.wa.edu.au/event/assembly-naidoc
LOCATION:Chapel
CATEGORIES:Senior School Events
END:VEVENT
BEGIN:VEVENT
DTSTART;TZID=Australia/Perth:20260809T100000
DTEND;TZID=Australia/Perth:20260809T120000
DTSTAMP:20260426T102133
CREATED:20250827T005537Z
LAST-MODIFIED:20260421T045858Z
UID:10022967-1786269600-1786276800@www.ccgs.wa.edu.au
SUMMARY:OQD Proram
DESCRIPTION:
URL:https://www.ccgs.wa.edu.au/event/oqd-proram-2
LOCATION:Chapel
CATEGORIES:Senior School Events
END:VEVENT
BEGIN:VEVENT
DTSTART;TZID=Australia/Perth:20260810T182000
DTEND;TZID=Australia/Perth:20260810T185000
DTSTAMP:20260426T102133
CREATED:20251217T024608Z
LAST-MODIFIED:20260421T045902Z
UID:10024405-1786386000-1786387800@www.ccgs.wa.edu.au
SUMMARY:Residential Chapel Service and Community Meeting
DESCRIPTION:
URL:https://www.ccgs.wa.edu.au/event/residential-chapel-service-and-community-meeting-120
LOCATION:Chapel
CATEGORIES:Senior School Events
END:VEVENT
BEGIN:VEVENT
DTSTART;TZID=Australia/Perth:20260814T180000
DTEND;TZID=Australia/Perth:20260814T193000
DTSTAMP:20260426T102133
CREATED:20250827T005559Z
LAST-MODIFIED:20260421T045933Z
UID:10022975-1786730400-1786735800@www.ccgs.wa.edu.au
SUMMARY:OQD Program
DESCRIPTION:
URL:https://www.ccgs.wa.edu.au/event/oqd-program-441
LOCATION:Chapel
CATEGORIES:Senior School Events
END:VEVENT
BEGIN:VEVENT
DTSTART;TZID=Australia/Perth:20260815T183000
DTEND;TZID=Australia/Perth:20260815T210000
DTSTAMP:20260426T102133
CREATED:20250827T005605Z
LAST-MODIFIED:20260421T045941Z
UID:10022977-1786818600-1786827600@www.ccgs.wa.edu.au
SUMMARY:OQD Program
DESCRIPTION:
URL:https://www.ccgs.wa.edu.au/event/oqd-program-442
LOCATION:Chapel
CATEGORIES:Senior School Events
END:VEVENT
BEGIN:VEVENT
DTSTART;TZID=Australia/Perth:20260816T110000
DTEND;TZID=Australia/Perth:20260816T150000
DTSTAMP:20260426T102133
CREATED:20250827T005611Z
LAST-MODIFIED:20260421T045943Z
UID:10022978-1786878000-1786892400@www.ccgs.wa.edu.au
SUMMARY:OQD Program
DESCRIPTION:
URL:https://www.ccgs.wa.edu.au/event/oqd-program-443
LOCATION:Chapel
CATEGORIES:Senior School Events
END:VEVENT
BEGIN:VEVENT
DTSTART;TZID=Australia/Perth:20260817T182000
DTEND;TZID=Australia/Perth:20260817T185000
DTSTAMP:20260426T102133
CREATED:20251217T024637Z
LAST-MODIFIED:20260421T045949Z
UID:10024417-1786990800-1786992600@www.ccgs.wa.edu.au
SUMMARY:Residential Chapel Service and Community Meeting
DESCRIPTION:
URL:https://www.ccgs.wa.edu.au/event/residential-chapel-service-and-community-meeting-121
LOCATION:Chapel
CATEGORIES:Senior School Events
END:VEVENT
BEGIN:VEVENT
DTSTART;TZID=Australia/Perth:20260820T083000
DTEND;TZID=Australia/Perth:20260820T104000
DTSTAMP:20260426T102133
CREATED:20250827T005615Z
LAST-MODIFIED:20260421T050005Z
UID:10022980-1787214600-1787222400@www.ccgs.wa.edu.au
SUMMARY:House Shout
DESCRIPTION:
URL:https://www.ccgs.wa.edu.au/event/house-shout
LOCATION:Chapel
CATEGORIES:Senior School Events
END:VEVENT
BEGIN:VEVENT
DTSTART;TZID=Australia/Perth:20260825T182000
DTEND;TZID=Australia/Perth:20260825T185000
DTSTAMP:20260426T102133
CREATED:20251217T024651Z
LAST-MODIFIED:20260421T050015Z
UID:10024428-1787682000-1787683800@www.ccgs.wa.edu.au
SUMMARY:Residential Chapel Service and Community Meeting
DESCRIPTION:
URL:https://www.ccgs.wa.edu.au/event/residential-chapel-service-and-community-meeting-122
LOCATION:Chapel
CATEGORIES:Senior School Events
END:VEVENT
BEGIN:VEVENT
DTSTART;TZID=Australia/Perth:20260831T182000
DTEND;TZID=Australia/Perth:20260831T185000
DTSTAMP:20260426T102133
CREATED:20251217T024705Z
LAST-MODIFIED:20260421T050035Z
UID:10024436-1788200400-1788202200@www.ccgs.wa.edu.au
SUMMARY:Residential Chapel Service and Community Meeting
DESCRIPTION:
URL:https://www.ccgs.wa.edu.au/event/residential-chapel-service-and-community-meeting-123
LOCATION:Chapel
CATEGORIES:Senior School Events
END:VEVENT
BEGIN:VEVENT
DTSTART;TZID=Australia/Perth:20260903T083000
DTEND;TZID=Australia/Perth:20260903T093000
DTSTAMP:20260426T102133
CREATED:20250902T180547Z
LAST-MODIFIED:20260421T050047Z
UID:10023057-1788424200-1788427800@www.ccgs.wa.edu.au
SUMMARY:Assembly Mental Health Week
DESCRIPTION:
URL:https://www.ccgs.wa.edu.au/event/assembly-mental-health-week
LOCATION:Chapel
CATEGORIES:Senior School Events
END:VEVENT
BEGIN:VEVENT
DTSTART;TZID=Australia/Perth:20260906T100000
DTEND;TZID=Australia/Perth:20260906T120000
DTSTAMP:20260426T102133
CREATED:20250905T201707Z
LAST-MODIFIED:20260421T050111Z
UID:10023176-1788688800-1788696000@www.ccgs.wa.edu.au
SUMMARY:OQD Program
DESCRIPTION:
URL:https://www.ccgs.wa.edu.au/event/oqd-program-446
LOCATION:Chapel
CATEGORIES:Senior School Events
END:VEVENT
BEGIN:VEVENT
DTSTART;TZID=Australia/Perth:20260907T182000
DTEND;TZID=Australia/Perth:20260907T185000
DTSTAMP:20260426T102133
CREATED:20251217T024727Z
LAST-MODIFIED:20260421T050123Z
UID:10024446-1788805200-1788807000@www.ccgs.wa.edu.au
SUMMARY:Residential Chapel Service and Community Meeting
DESCRIPTION:
URL:https://www.ccgs.wa.edu.au/event/residential-chapel-service-and-community-meeting-124
LOCATION:Chapel
CATEGORIES:Senior School Events
END:VEVENT
BEGIN:VEVENT
DTSTART;TZID=Australia/Perth:20260910T083000
DTEND;TZID=Australia/Perth:20260910T093000
DTSTAMP:20260426T102133
CREATED:20250909T171503Z
LAST-MODIFIED:20260421T050153Z
UID:10023189-1789029000-1789032600@www.ccgs.wa.edu.au
SUMMARY:Assembly - PSA Aths & Prefect Announcement
DESCRIPTION:
URL:https://www.ccgs.wa.edu.au/event/assembly-psa-aths-prefect-announcement
LOCATION:Chapel
CATEGORIES:Senior School Events
END:VEVENT
BEGIN:VEVENT
DTSTART;TZID=Australia/Perth:20260910T093000
DTEND;TZID=Australia/Perth:20260910T100000
DTSTAMP:20260426T102133
CREATED:20251217T024739Z
LAST-MODIFIED:20260421T050148Z
UID:10024451-1789032600-1789034400@www.ccgs.wa.edu.au
SUMMARY:Photos - Athletics (PE Uniform) and Debating (Formals)
DESCRIPTION:
URL:https://www.ccgs.wa.edu.au/event/photos-athletics-pe-uniform-and-debating-formals
LOCATION:Chapel
CATEGORIES:Senior School Events
END:VEVENT
BEGIN:VEVENT
DTSTART;TZID=Australia/Perth:20260913T100000
DTEND;TZID=Australia/Perth:20260913T120000
DTSTAMP:20260426T102133
CREATED:20250912T174409Z
LAST-MODIFIED:20260421T050220Z
UID:10023203-1789293600-1789300800@www.ccgs.wa.edu.au
SUMMARY:OQD Program
DESCRIPTION:
URL:https://www.ccgs.wa.edu.au/event/oqd-program-451
LOCATION:Chapel
CATEGORIES:Senior School Events
END:VEVENT
BEGIN:VEVENT
DTSTART;TZID=Australia/Perth:20260914T182000
DTEND;TZID=Australia/Perth:20260914T185000
DTSTAMP:20260426T102133
CREATED:20251217T024801Z
LAST-MODIFIED:20260421T050224Z
UID:10024459-1789410000-1789411800@www.ccgs.wa.edu.au
SUMMARY:Residential Chapel Service and Community Meeting
DESCRIPTION:
URL:https://www.ccgs.wa.edu.au/event/residential-chapel-service-and-community-meeting-125
LOCATION:Chapel
CATEGORIES:Senior School Events
END:VEVENT
BEGIN:VEVENT
DTSTART;TZID=Australia/Perth:20260916T180000
DTEND;TZID=Australia/Perth:20260916T190000
DTSTAMP:20260426T102133
CREATED:20250916T233633Z
LAST-MODIFIED:20260419T234803Z
UID:10023231-1789581600-1789585200@www.ccgs.wa.edu.au
SUMMARY:Rowing Information Night #1
DESCRIPTION:
URL:https://www.ccgs.wa.edu.au/event/rowing-information-night-1-2
LOCATION:Chapel
CATEGORIES:Senior School Sport
END:VEVENT
BEGIN:VEVENT
DTSTART;TZID=Australia/Perth:20260917T083000
DTEND;TZID=Australia/Perth:20260917T094500
DTSTAMP:20260426T102133
CREATED:20250916T175844Z
LAST-MODIFIED:20260421T050244Z
UID:10023225-1789633800-1789638300@www.ccgs.wa.edu.au
SUMMARY:Assembly - New Prefects' Induction
DESCRIPTION:
URL:https://www.ccgs.wa.edu.au/event/assembly-new-prefects-induction
LOCATION:Chapel
CATEGORIES:Senior School Events
END:VEVENT
BEGIN:VEVENT
DTSTART;TZID=Australia/Perth:20260917T180000
DTEND;TZID=Australia/Perth:20260917T190000
DTSTAMP:20260426T102133
CREATED:20250916T233635Z
LAST-MODIFIED:20260419T234806Z
UID:10023232-1789668000-1789671600@www.ccgs.wa.edu.au
SUMMARY:Rowing Information Night #2
DESCRIPTION:
URL:https://www.ccgs.wa.edu.au/event/rowing-information-night-2-2
LOCATION:Chapel
CATEGORIES:Senior School Sport
END:VEVENT
BEGIN:VEVENT
DTSTART;TZID=Australia/Perth:20260918T180000
DTEND;TZID=Australia/Perth:20260918T193000
DTSTAMP:20260426T102133
CREATED:20250917T191608Z
LAST-MODIFIED:20260421T050300Z
UID:10023236-1789754400-1789759800@www.ccgs.wa.edu.au
SUMMARY:OQD Program
DESCRIPTION:
URL:https://www.ccgs.wa.edu.au/event/oqd-program-454
LOCATION:Chapel
CATEGORIES:Senior School Events
END:VEVENT
BEGIN:VEVENT
DTSTART;TZID=Australia/Perth:20260919T183000
DTEND;TZID=Australia/Perth:20260919T210000
DTSTAMP:20260426T102133
CREATED:20250918T180125Z
LAST-MODIFIED:20260421T050319Z
UID:10023263-1789842600-1789851600@www.ccgs.wa.edu.au
SUMMARY:OQD Program
DESCRIPTION:
URL:https://www.ccgs.wa.edu.au/event/oqd-program-455
LOCATION:Chapel
CATEGORIES:Senior School Events
END:VEVENT
BEGIN:VEVENT
DTSTART;TZID=Australia/Perth:20260920T110000
DTEND;TZID=Australia/Perth:20260920T150000
DTSTAMP:20260426T102133
CREATED:20250919T180120Z
LAST-MODIFIED:20260421T050326Z
UID:10023265-1789902000-1789916400@www.ccgs.wa.edu.au
SUMMARY:OQD Program
DESCRIPTION:
URL:https://www.ccgs.wa.edu.au/event/oqd-program-456
LOCATION:Chapel
CATEGORIES:Senior School Events
END:VEVENT
BEGIN:VEVENT
DTSTART;TZID=Australia/Perth:20260921T182000
DTEND;TZID=Australia/Perth:20260921T185000
DTSTAMP:20260426T102133
CREATED:20251217T024831Z
LAST-MODIFIED:20260421T050322Z
UID:10024472-1790014800-1790016600@www.ccgs.wa.edu.au
SUMMARY:Residential Chapel Service and Community Meeting
DESCRIPTION:
URL:https://www.ccgs.wa.edu.au/event/residential-chapel-service-and-community-meeting-126
LOCATION:Chapel
CATEGORIES:Senior School Events
END:VEVENT
BEGIN:VEVENT
DTSTART;TZID=Australia/Perth:20260924T083000
DTEND;TZID=Australia/Perth:20260924T093000
DTSTAMP:20260426T102133
CREATED:20250923T175817Z
LAST-MODIFIED:20260421T050335Z
UID:10023292-1790238600-1790242200@www.ccgs.wa.edu.au
SUMMARY:Assembly
DESCRIPTION:
URL:https://www.ccgs.wa.edu.au/event/assembly-39
LOCATION:Chapel
CATEGORIES:Senior School Events
END:VEVENT
BEGIN:VEVENT
DTSTART;TZID=Australia/Perth:20261014T070000
DTEND;TZID=Australia/Perth:20261014T085000
DTSTAMP:20260426T102133
CREATED:20251013T171435Z
LAST-MODIFIED:20260421T050356Z
UID:10023447-1791961200-1791967800@www.ccgs.wa.edu.au
SUMMARY:Archbishop's Day - Yr 12 Mother-Son Eucharist
DESCRIPTION:
URL:https://www.ccgs.wa.edu.au/event/archbishops-day-yr-12-mother-son-eucharist
LOCATION:Chapel
CATEGORIES:Senior School Events
END:VEVENT
BEGIN:VEVENT
DTSTART;TZID=Australia/Perth:20261015T083000
DTEND;TZID=Australia/Perth:20261015T093000
DTSTAMP:20260426T102133
CREATED:20251014T181601Z
LAST-MODIFIED:20260421T050402Z
UID:10023451-1792053000-1792056600@www.ccgs.wa.edu.au
SUMMARY:Assembly - Honour Blazers/Year 12 Awards
DESCRIPTION:
URL:https://www.ccgs.wa.edu.au/event/assembly-honour-blazers-awards
LOCATION:Chapel
CATEGORIES:Senior School Events
END:VEVENT
BEGIN:VEVENT
DTSTART;TZID=Australia/Perth:20261015T110000
DTEND;TZID=Australia/Perth:20261015T124500
DTSTAMP:20260426T102133
CREATED:20251217T024852Z
LAST-MODIFIED:20260421T050411Z
UID:10024481-1792062000-1792068300@www.ccgs.wa.edu.au
SUMMARY:Paul Dillon - Leavers & Smart Choices - Year 12
DESCRIPTION:
URL:https://www.ccgs.wa.edu.au/event/paul-dillon-leavers-smart-choices-year-12
LOCATION:Chapel
CATEGORIES:Senior School Events
END:VEVENT
END:VCALENDAR