BEGIN:VCALENDAR
VERSION:2.0
PRODID:-//CCGS - ECPv6.15.15//NONSGML v1.0//EN
CALSCALE:GREGORIAN
METHOD:PUBLISH
X-ORIGINAL-URL:https://www.ccgs.wa.edu.au
X-WR-CALDESC:Events for CCGS
REFRESH-INTERVAL;VALUE=DURATION:PT1H
X-Robots-Tag:noindex
X-PUBLISHED-TTL:PT1H
BEGIN:VTIMEZONE
TZID:Australia/Perth
BEGIN:STANDARD
TZOFFSETFROM:+0800
TZOFFSETTO:+0800
TZNAME:AWST
DTSTART:20240101T000000
END:STANDARD
END:VTIMEZONE
BEGIN:VEVENT
DTSTART;TZID=Australia/Perth:20251020T093000
DTEND;TZID=Australia/Perth:20251020T103000
DTSTAMP:20260423T051127
CREATED:20241128T045930Z
LAST-MODIFIED:20251002T235032Z
UID:10020258-1760952600-1760956200@www.ccgs.wa.edu.au
SUMMARY:Littler Learners
DESCRIPTION:
URL:https://www.ccgs.wa.edu.au/event/littler-learners
LOCATION:ELC
CATEGORIES:Prep School Events
END:VEVENT
BEGIN:VEVENT
DTSTART;TZID=Australia/Perth:20250505T093000
DTEND;TZID=Australia/Perth:20250505T100000
DTSTAMP:20260423T051127
CREATED:20241128T022752Z
LAST-MODIFIED:20250503T062347Z
UID:10020126-1746437400-1746439200@www.ccgs.wa.edu.au
SUMMARY:Little Learners
DESCRIPTION:
URL:https://www.ccgs.wa.edu.au/event/little-learners-28
LOCATION:ELC
CATEGORIES:Prep School Events
END:VEVENT
END:VCALENDAR