BEGIN:VCALENDAR
VERSION:2.0
PRODID:-//CCGS - ECPv6.15.15//NONSGML v1.0//EN
CALSCALE:GREGORIAN
METHOD:PUBLISH
X-ORIGINAL-URL:https://www.ccgs.wa.edu.au
X-WR-CALDESC:Events for CCGS
REFRESH-INTERVAL;VALUE=DURATION:PT1H
X-Robots-Tag:noindex
X-PUBLISHED-TTL:PT1H
BEGIN:VTIMEZONE
TZID:Australia/Perth
BEGIN:STANDARD
TZOFFSETFROM:+0800
TZOFFSETTO:+0800
TZNAME:AWST
DTSTART:20240101T000000
END:STANDARD
END:VTIMEZONE
BEGIN:VEVENT
DTSTART;TZID=Australia/Perth:20251029T070000
DTEND;TZID=Australia/Perth:20251029T080000
DTSTAMP:20260423T104811
CREATED:20250121T235804Z
LAST-MODIFIED:20251028T235014Z
UID:10020630-1761721200-1761724800@www.ccgs.wa.edu.au
SUMMARY:Summer Captains Breakfast
DESCRIPTION:
URL:https://www.ccgs.wa.edu.au/event/summer-captains-breakfast
LOCATION:Guildford Dining Hall
CATEGORIES:Senior School Sport
END:VEVENT
BEGIN:VEVENT
DTSTART;TZID=Australia/Perth:20250507T070000
DTEND;TZID=Australia/Perth:20250507T080000
DTSTAMP:20260423T104811
CREATED:20250121T235726Z
LAST-MODIFIED:20250506T233451Z
UID:10020622-1746601200-1746604800@www.ccgs.wa.edu.au
SUMMARY:Winter Captains Breakfast
DESCRIPTION:
URL:https://www.ccgs.wa.edu.au/event/winter-captains-breakfast
LOCATION:Guildford Dining Hall
CATEGORIES:Senior School Sport
END:VEVENT
END:VCALENDAR