BEGIN:VCALENDAR
VERSION:2.0
PRODID:-//CCGS - ECPv6.15.15//NONSGML v1.0//EN
CALSCALE:GREGORIAN
METHOD:PUBLISH
X-WR-CALNAME:CCGS
X-ORIGINAL-URL:https://www.ccgs.wa.edu.au
X-WR-CALDESC:Events for CCGS
REFRESH-INTERVAL;VALUE=DURATION:PT1H
X-Robots-Tag:noindex
X-PUBLISHED-TTL:PT1H
BEGIN:VTIMEZONE
TZID:Australia/Perth
BEGIN:STANDARD
TZOFFSETFROM:+0800
TZOFFSETTO:+0800
TZNAME:AWST
DTSTART:20240101T000000
END:STANDARD
END:VTIMEZONE
BEGIN:VEVENT
DTSTART;TZID=Australia/Perth:20250626T143000
DTEND;TZID=Australia/Perth:20250626T163000
DTSTAMP:20260423T120310
CREATED:20250123T235459Z
LAST-MODIFIED:20250625T233414Z
UID:10020665-1750948200-1750955400@www.ccgs.wa.edu.au
SUMMARY:PSA Cross Country - all schools 4km
DESCRIPTION:
URL:https://www.ccgs.wa.edu.au/event/psa-cross-country-all-schools-4km-4
LOCATION:Guildford Grammar School
CATEGORIES:Senior School Sport
END:VEVENT
END:VCALENDAR