BEGIN:VCALENDAR
VERSION:2.0
PRODID:-//CCGS - ECPv6.15.15//NONSGML v1.0//EN
CALSCALE:GREGORIAN
METHOD:PUBLISH
X-WR-CALNAME:CCGS
X-ORIGINAL-URL:https://www.ccgs.wa.edu.au
X-WR-CALDESC:Events for CCGS
REFRESH-INTERVAL;VALUE=DURATION:PT1H
X-Robots-Tag:noindex
X-PUBLISHED-TTL:PT1H
BEGIN:VTIMEZONE
TZID:Australia/Perth
BEGIN:STANDARD
TZOFFSETFROM:+0800
TZOFFSETTO:+0800
TZNAME:AWST
DTSTART:20250101T000000
END:STANDARD
END:VTIMEZONE
BEGIN:VEVENT
DTSTART;TZID=Australia/Perth:20261022T190000
DTEND;TZID=Australia/Perth:20261022T220000
DTSTAMP:20260422T054310
CREATED:20251021T171428Z
LAST-MODIFIED:20260421T050506Z
UID:10023516-1792695600-1792706400@www.ccgs.wa.edu.au
SUMMARY:Yr 12 Valedictory Dinner
DESCRIPTION:
URL:https://www.ccgs.wa.edu.au/event/yr-12-valedictory-dinner
LOCATION:Gym Precinct
CATEGORIES:Senior School Events
END:VEVENT
END:VCALENDAR