BEGIN:VCALENDAR
VERSION:2.0
PRODID:-//CCGS - ECPv6.15.20//NONSGML v1.0//EN
CALSCALE:GREGORIAN
METHOD:PUBLISH
X-WR-CALNAME:CCGS
X-ORIGINAL-URL:https://www.ccgs.wa.edu.au
X-WR-CALDESC:Events for CCGS
REFRESH-INTERVAL;VALUE=DURATION:PT1H
X-Robots-Tag:noindex
X-PUBLISHED-TTL:PT1H
BEGIN:VTIMEZONE
TZID:Australia/Perth
BEGIN:STANDARD
TZOFFSETFROM:+0800
TZOFFSETTO:+0800
TZNAME:AWST
DTSTART:20250101T000000
END:STANDARD
END:VTIMEZONE
BEGIN:VEVENT
DTSTART;TZID=Australia/Perth:20260904T123000
DTEND;TZID=Australia/Perth:20260904T160000
DTSTAMP:20260426T100456
CREATED:20251217T024720Z
LAST-MODIFIED:20260421T050056Z
UID:10024444-1788525000-1788537600@www.ccgs.wa.edu.au
SUMMARY:WTSS Shot (1/2 unit)
DESCRIPTION:WTSS Shoot (1/2 unit)4 SEP 26Friday12301600Irwin Barracks
URL:https://www.ccgs.wa.edu.au/event/wtss-shot-1-2-unit
LOCATION:Irwin Barracks
CATEGORIES:Senior School Events
END:VEVENT
END:VCALENDAR