BEGIN:VCALENDAR
VERSION:2.0
PRODID:-//CCGS - ECPv6.15.20//NONSGML v1.0//EN
CALSCALE:GREGORIAN
METHOD:PUBLISH
X-ORIGINAL-URL:https://www.ccgs.wa.edu.au
X-WR-CALDESC:Events for CCGS
REFRESH-INTERVAL;VALUE=DURATION:PT1H
X-Robots-Tag:noindex
X-PUBLISHED-TTL:PT1H
BEGIN:VTIMEZONE
TZID:Australia/Perth
BEGIN:STANDARD
TZOFFSETFROM:+0800
TZOFFSETTO:+0800
TZNAME:AWST
DTSTART:20250101T000000
END:STANDARD
END:VTIMEZONE
BEGIN:VEVENT
DTSTART;TZID=Australia/Perth:20260216T152000
DTEND;TZID=Australia/Perth:20260216T160000
DTSTAMP:20260425T192655
CREATED:20260212T013559Z
LAST-MODIFIED:20260216T061717Z
UID:10025128-1771255200-1771257600@www.ccgs.wa.edu.au
SUMMARY:English Department Education Perfect PL
DESCRIPTION:
URL:https://www.ccgs.wa.edu.au/event/english-department-education-perfect-pl
LOCATION:L10
CATEGORIES:Senior School Events
END:VEVENT
END:VCALENDAR