BEGIN:VCALENDAR
VERSION:2.0
PRODID:-//CCGS - ECPv6.15.20//NONSGML v1.0//EN
CALSCALE:GREGORIAN
METHOD:PUBLISH
X-ORIGINAL-URL:https://www.ccgs.wa.edu.au
X-WR-CALDESC:Events for CCGS
REFRESH-INTERVAL;VALUE=DURATION:PT1H
X-Robots-Tag:noindex
X-PUBLISHED-TTL:PT1H
BEGIN:VTIMEZONE
TZID:Australia/Perth
BEGIN:STANDARD
TZOFFSETFROM:+0800
TZOFFSETTO:+0800
TZNAME:AWST
DTSTART:20250101T000000
END:STANDARD
END:VTIMEZONE
BEGIN:VEVENT
DTSTART;VALUE=DATE:20260502
DTEND;VALUE=DATE:20260504
DTSTAMP:20260425T042731
CREATED:20260220T072111Z
LAST-MODIFIED:20260421T045228Z
UID:10025149-1777680000-1777852799@www.ccgs.wa.edu.au
SUMMARY:ECAWA Annual Conference
DESCRIPTION:
URL:https://www.ccgs.wa.edu.au/event/ecawa-annual-conference
LOCATION:L7\, L8\, L9 and SS Staffroom for lunches
CATEGORIES:Senior School Events
END:VEVENT
END:VCALENDAR