BEGIN:VCALENDAR
VERSION:2.0
PRODID:-//CCGS - ECPv6.15.15//NONSGML v1.0//EN
CALSCALE:GREGORIAN
METHOD:PUBLISH
X-ORIGINAL-URL:https://www.ccgs.wa.edu.au
X-WR-CALDESC:Events for CCGS
REFRESH-INTERVAL;VALUE=DURATION:PT1H
X-Robots-Tag:noindex
X-PUBLISHED-TTL:PT1H
BEGIN:VTIMEZONE
TZID:Australia/Perth
BEGIN:STANDARD
TZOFFSETFROM:+0800
TZOFFSETTO:+0800
TZNAME:AWST
DTSTART:20250101T000000
END:STANDARD
END:VTIMEZONE
BEGIN:VEVENT
DTSTART;TZID=Australia/Perth:20260504T083000
DTEND;TZID=Australia/Perth:20260504T110000
DTSTAMP:20260422T031643
CREATED:20251217T024158Z
LAST-MODIFIED:20260421T045233Z
UID:10024273-1777883400-1777892400@www.ccgs.wa.edu.au
SUMMARY:Catch-up Portrait Photos (Formals)
DESCRIPTION:
URL:https://www.ccgs.wa.edu.au/event/catch-up-portrait-photos-formals
LOCATION:OBA Gallery
CATEGORIES:Senior School Events
END:VEVENT
BEGIN:VEVENT
DTSTART;TZID=Australia/Perth:20260702T120000
DTEND;TZID=Australia/Perth:20260702T150000
DTSTAMP:20260422T031643
CREATED:20251125T235104Z
LAST-MODIFIED:20260420T233320Z
UID:10024054-1782993600-1783004400@www.ccgs.wa.edu.au
SUMMARY:"Un" Winter Lunch
DESCRIPTION:
URL:https://www.ccgs.wa.edu.au/event/un-winter-lunch
LOCATION:OBA Gallery
CATEGORIES:Parents Events
END:VEVENT
BEGIN:VEVENT
DTSTART;TZID=Australia/Perth:20260807T190000
DTEND;TZID=Australia/Perth:20260807T204500
DTSTAMP:20260422T031643
CREATED:20251217T024551Z
LAST-MODIFIED:20260421T045844Z
UID:10024396-1786129200-1786135500@www.ccgs.wa.edu.au
SUMMARY:OQD Program
DESCRIPTION:
URL:https://www.ccgs.wa.edu.au/event/oqd-program-496
LOCATION:OBA Gallery
CATEGORIES:Senior School Events
END:VEVENT
BEGIN:VEVENT
DTSTART;TZID=Australia/Perth:20260827T083000
DTEND;TZID=Australia/Perth:20260827T110000
DTSTAMP:20260422T031643
CREATED:20251217T024701Z
LAST-MODIFIED:20260421T050024Z
UID:10024434-1787819400-1787828400@www.ccgs.wa.edu.au
SUMMARY:Catch-up Portrait Photos (Formals)
DESCRIPTION:
URL:https://www.ccgs.wa.edu.au/event/catch-up-portrait-photos-formals-2
LOCATION:OBA Gallery
CATEGORIES:Senior School Events
END:VEVENT
BEGIN:VEVENT
DTSTART;TZID=Australia/Perth:20260909T090000
DTEND;TZID=Australia/Perth:20260909T130000
DTSTAMP:20260422T031643
CREATED:20251015T064438Z
LAST-MODIFIED:20260421T050144Z
UID:10023465-1788944400-1788958800@www.ccgs.wa.edu.au
SUMMARY:Year 7 Immunisation
DESCRIPTION:
URL:https://www.ccgs.wa.edu.au/event/year-7-immunisation
LOCATION:OBA Gallery
CATEGORIES:Senior School Events
END:VEVENT
BEGIN:VEVENT
DTSTART;TZID=Australia/Perth:20260910T090000
DTEND;TZID=Australia/Perth:20260910T130000
DTSTAMP:20260422T031643
CREATED:20251016T024601Z
LAST-MODIFIED:20260421T050157Z
UID:10023479-1789030800-1789045200@www.ccgs.wa.edu.au
SUMMARY:Year 7 Immunisation
DESCRIPTION:
URL:https://www.ccgs.wa.edu.au/event/year-7-immunisation-3
LOCATION:OBA Gallery
CATEGORIES:Senior School Events
END:VEVENT
BEGIN:VEVENT
DTSTART;TZID=Australia/Perth:20260922T090000
DTEND;TZID=Australia/Perth:20260922T130000
DTSTAMP:20260422T031643
CREATED:20251016T024631Z
LAST-MODIFIED:20260421T050329Z
UID:10023480-1790067600-1790082000@www.ccgs.wa.edu.au
SUMMARY:Immunisations Y7 & Y10 Catch-ups
DESCRIPTION:
URL:https://www.ccgs.wa.edu.au/event/immunisations-y7-y10-catch-ups
LOCATION:OBA Gallery
CATEGORIES:Senior School Events
END:VEVENT
BEGIN:VEVENT
DTSTART;TZID=Australia/Perth:20261029T180000
DTEND;TZID=Australia/Perth:20261029T190000
DTSTAMP:20260422T031643
CREATED:20251125T235130Z
LAST-MODIFIED:20260420T233423Z
UID:10024059-1793296800-1793300400@www.ccgs.wa.edu.au
SUMMARY:OBA AGM
DESCRIPTION:
URL:https://www.ccgs.wa.edu.au/event/oba-agm-4
LOCATION:OBA Gallery
CATEGORIES:Parents Events
END:VEVENT
END:VCALENDAR