BEGIN:VCALENDAR
VERSION:2.0
PRODID:-//CCGS - ECPv6.15.20//NONSGML v1.0//EN
CALSCALE:GREGORIAN
METHOD:PUBLISH
X-WR-CALNAME:CCGS
X-ORIGINAL-URL:https://www.ccgs.wa.edu.au
X-WR-CALDESC:Events for CCGS
REFRESH-INTERVAL;VALUE=DURATION:PT1H
X-Robots-Tag:noindex
X-PUBLISHED-TTL:PT1H
BEGIN:VTIMEZONE
TZID:Australia/Perth
BEGIN:STANDARD
TZOFFSETFROM:+0800
TZOFFSETTO:+0800
TZNAME:AWST
DTSTART:20240101T000000
END:STANDARD
END:VTIMEZONE
BEGIN:VEVENT
DTSTART;TZID=Australia/Perth:20250827T170000
DTEND;TZID=Australia/Perth:20250827T200000
DTSTAMP:20260423T160504
CREATED:20250804T113548Z
LAST-MODIFIED:20250827T111813Z
UID:10022700-1756314000-1756324800@www.ccgs.wa.edu.au
SUMMARY:AHISA Debating
DESCRIPTION:
URL:https://www.ccgs.wa.edu.au/event/ahisa-debating-4
LOCATION:Perth College
CATEGORIES:Senior School Events
END:VEVENT
BEGIN:VEVENT
DTSTART;TZID=Australia/Perth:20250820T170000
DTEND;TZID=Australia/Perth:20250820T200000
DTSTAMP:20260423T160504
CREATED:20250804T113534Z
LAST-MODIFIED:20250806T183826Z
UID:10022699-1755709200-1755720000@www.ccgs.wa.edu.au
SUMMARY:AHISA Debating
DESCRIPTION:
URL:https://www.ccgs.wa.edu.au/event/ahisa-debating-3
LOCATION:Perth College
CATEGORIES:Senior School Events
END:VEVENT
BEGIN:VEVENT
DTSTART;TZID=Australia/Perth:20250813T170000
DTEND;TZID=Australia/Perth:20250813T200000
DTSTAMP:20260423T160504
CREATED:20250804T013357Z
LAST-MODIFIED:20250806T183743Z
UID:10022697-1755104400-1755115200@www.ccgs.wa.edu.au
SUMMARY:AHISA Debating
DESCRIPTION:
URL:https://www.ccgs.wa.edu.au/event/ahisa-debating
LOCATION:Perth College
CATEGORIES:Senior School Events
END:VEVENT
END:VCALENDAR