BEGIN:VCALENDAR
VERSION:2.0
PRODID:-//CCGS - ECPv6.15.20//NONSGML v1.0//EN
CALSCALE:GREGORIAN
METHOD:PUBLISH
X-ORIGINAL-URL:https://www.ccgs.wa.edu.au
X-WR-CALDESC:Events for CCGS
REFRESH-INTERVAL;VALUE=DURATION:PT1H
X-Robots-Tag:noindex
X-PUBLISHED-TTL:PT1H
BEGIN:VTIMEZONE
TZID:Australia/Perth
BEGIN:STANDARD
TZOFFSETFROM:+0800
TZOFFSETTO:+0800
TZNAME:AWST
DTSTART:20250101T000000
END:STANDARD
END:VTIMEZONE
BEGIN:VEVENT
DTSTART;TZID=Australia/Perth:20260901T090000
DTEND;TZID=Australia/Perth:20260901T150000
DTSTAMP:20260425T215456
CREATED:20251217T024708Z
LAST-MODIFIED:20260421T050037Z
UID:10024437-1788253200-1788274800@www.ccgs.wa.edu.au
SUMMARY:Year 11 Business Management and Enterprise ATAR Excursion
DESCRIPTION:
URL:https://www.ccgs.wa.edu.au/event/year-11-business-management-and-enterprise-atar-excursion-2
LOCATION:Perth/Myaree/Claremont
CATEGORIES:Senior School Events
END:VEVENT
END:VCALENDAR