BEGIN:VCALENDAR
VERSION:2.0
PRODID:-//CCGS - ECPv6.15.15//NONSGML v1.0//EN
CALSCALE:GREGORIAN
METHOD:PUBLISH
X-ORIGINAL-URL:https://www.ccgs.wa.edu.au
X-WR-CALDESC:Events for CCGS
REFRESH-INTERVAL;VALUE=DURATION:PT1H
X-Robots-Tag:noindex
X-PUBLISHED-TTL:PT1H
BEGIN:VTIMEZONE
TZID:Australia/Perth
BEGIN:STANDARD
TZOFFSETFROM:+0800
TZOFFSETTO:+0800
TZNAME:AWST
DTSTART:20250101T000000
END:STANDARD
END:VTIMEZONE
BEGIN:VEVENT
DTSTART;TZID=Australia/Perth:20260521T183000
DTEND;TZID=Australia/Perth:20260521T210000
DTSTAMP:20260422T053828
CREATED:20251217T024329Z
LAST-MODIFIED:20260421T045454Z
UID:10024318-1779388200-1779397200@www.ccgs.wa.edu.au
SUMMARY:Iona Year 10 River Cruise
DESCRIPTION:
URL:https://www.ccgs.wa.edu.au/event/iona-year-10-river-cruise
LOCATION:Pier 3 Barrack Street Jetty\, Perth
CATEGORIES:Senior School Events
END:VEVENT
END:VCALENDAR