BEGIN:VCALENDAR
VERSION:2.0
PRODID:-//CCGS - ECPv6.15.15//NONSGML v1.0//EN
CALSCALE:GREGORIAN
METHOD:PUBLISH
X-WR-CALNAME:CCGS
X-ORIGINAL-URL:https://www.ccgs.wa.edu.au
X-WR-CALDESC:Events for CCGS
REFRESH-INTERVAL;VALUE=DURATION:PT1H
X-Robots-Tag:noindex
X-PUBLISHED-TTL:PT1H
BEGIN:VTIMEZONE
TZID:Australia/Perth
BEGIN:STANDARD
TZOFFSETFROM:+0800
TZOFFSETTO:+0800
TZNAME:AWST
DTSTART:20250101T000000
END:STANDARD
END:VTIMEZONE
BEGIN:VEVENT
DTSTART;TZID=Australia/Perth:20260626T090000
DTEND;TZID=Australia/Perth:20260626T124500
DTSTAMP:20260420T103240
CREATED:20251217T024503Z
LAST-MODIFIED:20260420T010812Z
UID:10024366-1782464400-1782477900@www.ccgs.wa.edu.au
SUMMARY:11A_MMS Boating Skills Practical
DESCRIPTION:
URL:https://www.ccgs.wa.edu.au/event/11a_mms-boating-skills-practical-3
LOCATION:Riverside Precinct
CATEGORIES:Senior School Events
END:VEVENT
END:VCALENDAR