BEGIN:VCALENDAR
VERSION:2.0
PRODID:-//CCGS - ECPv6.15.15//NONSGML v1.0//EN
CALSCALE:GREGORIAN
METHOD:PUBLISH
X-WR-CALNAME:CCGS
X-ORIGINAL-URL:https://www.ccgs.wa.edu.au
X-WR-CALDESC:Events for CCGS
REFRESH-INTERVAL;VALUE=DURATION:PT1H
X-Robots-Tag:noindex
X-PUBLISHED-TTL:PT1H
BEGIN:VTIMEZONE
TZID:Australia/Perth
BEGIN:STANDARD
TZOFFSETFROM:+0800
TZOFFSETTO:+0800
TZNAME:AWST
DTSTART:20240101T000000
END:STANDARD
END:VTIMEZONE
BEGIN:VEVENT
DTSTART;TZID=Australia/Perth:20250801T071500
DTEND;TZID=Australia/Perth:20250801T081500
DTSTAMP:20260422T120410
CREATED:20250201T224844Z
LAST-MODIFIED:20250731T193747Z
UID:10021680-1754032500-1754036100@www.ccgs.wa.edu.au
SUMMARY:Senior Guitar Ensemble
DESCRIPTION:
URL:https://www.ccgs.wa.edu.au/event/senior-guitar-ensemble-134
LOCATION:Rock Room 8
CATEGORIES:Senior School Music & Drama
END:VEVENT
BEGIN:VEVENT
DTSTART;TZID=Australia/Perth:20250731T151500
DTEND;TZID=Australia/Perth:20250731T161500
DTSTAMP:20260422T120410
CREATED:20250201T224843Z
LAST-MODIFIED:20250729T233326Z
UID:10021678-1753974900-1753978500@www.ccgs.wa.edu.au
SUMMARY:Double Reed Ensemble
DESCRIPTION:
URL:https://www.ccgs.wa.edu.au/event/double-reed-ensemble-21
LOCATION:Rock Room 8
CATEGORIES:Senior School Music & Drama
END:VEVENT
BEGIN:VEVENT
DTSTART;TZID=Australia/Perth:20250731T071500
DTEND;TZID=Australia/Perth:20250731T081500
DTSTAMP:20260422T120410
CREATED:20250130T032452Z
LAST-MODIFIED:20250730T234809Z
UID:10021019-1753946100-1753949700@www.ccgs.wa.edu.au
SUMMARY:Guzheng Ensemble
DESCRIPTION:
URL:https://www.ccgs.wa.edu.au/event/guzheng-ensemble-53
LOCATION:Rock Room 8
CATEGORIES:Prep School Events
END:VEVENT
BEGIN:VEVENT
DTSTART;TZID=Australia/Perth:20250730T071500
DTEND;TZID=Australia/Perth:20250730T081500
DTSTAMP:20260422T120410
CREATED:20250201T224840Z
LAST-MODIFIED:20250729T233311Z
UID:10021672-1753859700-1753863300@www.ccgs.wa.edu.au
SUMMARY:Senior Guitar Quartet
DESCRIPTION:
URL:https://www.ccgs.wa.edu.au/event/senior-guitar-quartet-130
LOCATION:Rock Room 8
CATEGORIES:Senior School Music & Drama
END:VEVENT
BEGIN:VEVENT
DTSTART;TZID=Australia/Perth:20250729T071500
DTEND;TZID=Australia/Perth:20250729T081500
DTSTAMP:20260422T120410
CREATED:20250201T224839Z
LAST-MODIFIED:20250728T231815Z
UID:10021668-1753773300-1753776900@www.ccgs.wa.edu.au
SUMMARY:Guzheng Ensemble
DESCRIPTION:
URL:https://www.ccgs.wa.edu.au/event/guzheng-ensemble-89
LOCATION:Rock Room 8
CATEGORIES:Senior School Music & Drama
END:VEVENT
BEGIN:VEVENT
DTSTART;TZID=Australia/Perth:20250725T071500
DTEND;TZID=Australia/Perth:20250725T081500
DTSTAMP:20260422T120410
CREATED:20250201T224835Z
LAST-MODIFIED:20250724T222211Z
UID:10021662-1753427700-1753431300@www.ccgs.wa.edu.au
SUMMARY:Senior Guitar Ensemble
DESCRIPTION:
URL:https://www.ccgs.wa.edu.au/event/senior-guitar-ensemble-133
LOCATION:Rock Room 8
CATEGORIES:Senior School Music & Drama
END:VEVENT
BEGIN:VEVENT
DTSTART;TZID=Australia/Perth:20250724T151500
DTEND;TZID=Australia/Perth:20250724T161500
DTSTAMP:20260422T120410
CREATED:20250201T224834Z
LAST-MODIFIED:20250723T220317Z
UID:10021660-1753370100-1753373700@www.ccgs.wa.edu.au
SUMMARY:Double Reed Ensemble
DESCRIPTION:
URL:https://www.ccgs.wa.edu.au/event/double-reed-ensemble-20
LOCATION:Rock Room 8
CATEGORIES:Senior School Music & Drama
END:VEVENT
BEGIN:VEVENT
DTSTART;TZID=Australia/Perth:20250723T071500
DTEND;TZID=Australia/Perth:20250723T081500
DTSTAMP:20260422T120410
CREATED:20250201T224829Z
LAST-MODIFIED:20250722T220324Z
UID:10021652-1753254900-1753258500@www.ccgs.wa.edu.au
SUMMARY:Senior Guitar Quartet
DESCRIPTION:
URL:https://www.ccgs.wa.edu.au/event/senior-guitar-quartet-129
LOCATION:Rock Room 8
CATEGORIES:Senior School Music & Drama
END:VEVENT
BEGIN:VEVENT
DTSTART;TZID=Australia/Perth:20250722T071500
DTEND;TZID=Australia/Perth:20250722T081500
DTSTAMP:20260422T120410
CREATED:20250201T224827Z
LAST-MODIFIED:20250721T220314Z
UID:10021650-1753168500-1753172100@www.ccgs.wa.edu.au
SUMMARY:Guzheng Ensemble
DESCRIPTION:
URL:https://www.ccgs.wa.edu.au/event/guzheng-ensemble-88
LOCATION:Rock Room 8
CATEGORIES:Senior School Music & Drama
END:VEVENT
BEGIN:VEVENT
DTSTART;TZID=Australia/Perth:20250627T071500
DTEND;TZID=Australia/Perth:20250627T081500
DTSTAMP:20260422T120410
CREATED:20250201T224824Z
LAST-MODIFIED:20250626T205340Z
UID:10021642-1751008500-1751012100@www.ccgs.wa.edu.au
SUMMARY:Senior Guitar Ensemble
DESCRIPTION:
URL:https://www.ccgs.wa.edu.au/event/senior-guitar-ensemble-132
LOCATION:Rock Room 8
CATEGORIES:Senior School Music & Drama
END:VEVENT
BEGIN:VEVENT
DTSTART;TZID=Australia/Perth:20250626T151500
DTEND;TZID=Australia/Perth:20250626T161500
DTSTAMP:20260422T120410
CREATED:20250201T224824Z
LAST-MODIFIED:20250625T203835Z
UID:10021641-1750950900-1750954500@www.ccgs.wa.edu.au
SUMMARY:Double Reed Ensemble
DESCRIPTION:
URL:https://www.ccgs.wa.edu.au/event/double-reed-ensemble-19
LOCATION:Rock Room 8
CATEGORIES:Senior School Music & Drama
END:VEVENT
BEGIN:VEVENT
DTSTART;TZID=Australia/Perth:20250626T071500
DTEND;TZID=Australia/Perth:20250626T081500
DTSTAMP:20260422T120410
CREATED:20250130T032316Z
LAST-MODIFIED:20250616T161938Z
UID:10020985-1750922100-1750925700@www.ccgs.wa.edu.au
SUMMARY:Guzheng Ensemble
DESCRIPTION:
URL:https://www.ccgs.wa.edu.au/event/guzheng-ensemble-51
LOCATION:Rock Room 8
CATEGORIES:Prep School Events
END:VEVENT
BEGIN:VEVENT
DTSTART;TZID=Australia/Perth:20250625T071500
DTEND;TZID=Australia/Perth:20250625T081500
DTSTAMP:20260422T120410
CREATED:20250201T224820Z
LAST-MODIFIED:20250624T201918Z
UID:10021633-1750835700-1750839300@www.ccgs.wa.edu.au
SUMMARY:Senior Guitar Quartet
DESCRIPTION:
URL:https://www.ccgs.wa.edu.au/event/senior-guitar-quartet-128
LOCATION:Rock Room 8
CATEGORIES:Senior School Music & Drama
END:VEVENT
BEGIN:VEVENT
DTSTART;TZID=Australia/Perth:20250624T071500
DTEND;TZID=Australia/Perth:20250624T081500
DTSTAMP:20260422T120410
CREATED:20250201T224818Z
LAST-MODIFIED:20250623T200835Z
UID:10021630-1750749300-1750752900@www.ccgs.wa.edu.au
SUMMARY:Guzheng Ensemble
DESCRIPTION:
URL:https://www.ccgs.wa.edu.au/event/guzheng-ensemble-87
LOCATION:Rock Room 8
CATEGORIES:Senior School Music & Drama
END:VEVENT
BEGIN:VEVENT
DTSTART;TZID=Australia/Perth:20250620T071500
DTEND;TZID=Australia/Perth:20250620T081500
DTSTAMP:20260422T120410
CREATED:20250201T224815Z
LAST-MODIFIED:20250619T204918Z
UID:10021623-1750403700-1750407300@www.ccgs.wa.edu.au
SUMMARY:Senior Guitar Ensemble
DESCRIPTION:
URL:https://www.ccgs.wa.edu.au/event/senior-guitar-ensemble-131
LOCATION:Rock Room 8
CATEGORIES:Senior School Music & Drama
END:VEVENT
BEGIN:VEVENT
DTSTART;TZID=Australia/Perth:20250619T151500
DTEND;TZID=Australia/Perth:20250619T161500
DTSTAMP:20260422T120410
CREATED:20250201T224814Z
LAST-MODIFIED:20250615T193429Z
UID:10021622-1750346100-1750349700@www.ccgs.wa.edu.au
SUMMARY:Double Reed Ensemble
DESCRIPTION:
URL:https://www.ccgs.wa.edu.au/event/double-reed-ensemble-18
LOCATION:Rock Room 8
CATEGORIES:Senior School Music & Drama
END:VEVENT
BEGIN:VEVENT
DTSTART;TZID=Australia/Perth:20250619T071500
DTEND;TZID=Australia/Perth:20250619T081500
DTSTAMP:20260422T120410
CREATED:20250130T032216Z
LAST-MODIFIED:20250616T161923Z
UID:10020967-1750317300-1750320900@www.ccgs.wa.edu.au
SUMMARY:Guzheng Ensemble
DESCRIPTION:
URL:https://www.ccgs.wa.edu.au/event/guzheng-ensemble-50
LOCATION:Rock Room 8
CATEGORIES:Prep School Events
END:VEVENT
BEGIN:VEVENT
DTSTART;TZID=Australia/Perth:20250618T071500
DTEND;TZID=Australia/Perth:20250618T081500
DTSTAMP:20260422T120410
CREATED:20250201T224811Z
LAST-MODIFIED:20250615T193424Z
UID:10021614-1750230900-1750234500@www.ccgs.wa.edu.au
SUMMARY:Senior Guitar Quartet
DESCRIPTION:
URL:https://www.ccgs.wa.edu.au/event/senior-guitar-quartet-127
LOCATION:Rock Room 8
CATEGORIES:Senior School Music & Drama
END:VEVENT
BEGIN:VEVENT
DTSTART;TZID=Australia/Perth:20250617T071500
DTEND;TZID=Australia/Perth:20250617T081500
DTSTAMP:20260422T120410
CREATED:20250201T224810Z
LAST-MODIFIED:20250615T193420Z
UID:10021612-1750144500-1750148100@www.ccgs.wa.edu.au
SUMMARY:Guzheng Ensemble
DESCRIPTION:
URL:https://www.ccgs.wa.edu.au/event/guzheng-ensemble-86
LOCATION:Rock Room 8
CATEGORIES:Senior School Music & Drama
END:VEVENT
BEGIN:VEVENT
DTSTART;TZID=Australia/Perth:20250613T071500
DTEND;TZID=Australia/Perth:20250613T081500
DTSTAMP:20260422T120410
CREATED:20250201T224806Z
LAST-MODIFIED:20250612T233510Z
UID:10021605-1749798900-1749802500@www.ccgs.wa.edu.au
SUMMARY:Senior Guitar Ensemble
DESCRIPTION:
URL:https://www.ccgs.wa.edu.au/event/senior-guitar-ensemble-130
LOCATION:Rock Room 8
CATEGORIES:Senior School Music & Drama
END:VEVENT
BEGIN:VEVENT
DTSTART;TZID=Australia/Perth:20250612T151500
DTEND;TZID=Australia/Perth:20250612T161500
DTSTAMP:20260422T120410
CREATED:20250201T224805Z
LAST-MODIFIED:20250611T231917Z
UID:10021602-1749741300-1749744900@www.ccgs.wa.edu.au
SUMMARY:Double Reed Ensemble
DESCRIPTION:
URL:https://www.ccgs.wa.edu.au/event/double-reed-ensemble-17
LOCATION:Rock Room 8
CATEGORIES:Senior School Music & Drama
END:VEVENT
BEGIN:VEVENT
DTSTART;TZID=Australia/Perth:20250611T071500
DTEND;TZID=Australia/Perth:20250611T081500
DTSTAMP:20260422T120410
CREATED:20250201T224802Z
LAST-MODIFIED:20250610T230414Z
UID:10021595-1749626100-1749629700@www.ccgs.wa.edu.au
SUMMARY:Senior Guitar Quartet
DESCRIPTION:
URL:https://www.ccgs.wa.edu.au/event/senior-guitar-quartet-126
LOCATION:Rock Room 8
CATEGORIES:Senior School Music & Drama
END:VEVENT
BEGIN:VEVENT
DTSTART;TZID=Australia/Perth:20250610T071500
DTEND;TZID=Australia/Perth:20250610T081500
DTSTAMP:20260422T120410
CREATED:20250201T224800Z
LAST-MODIFIED:20250609T224924Z
UID:10021590-1749539700-1749543300@www.ccgs.wa.edu.au
SUMMARY:Guzheng Ensemble
DESCRIPTION:
URL:https://www.ccgs.wa.edu.au/event/guzheng-ensemble-85
LOCATION:Rock Room 8
CATEGORIES:Senior School Music & Drama
END:VEVENT
BEGIN:VEVENT
DTSTART;TZID=Australia/Perth:20250606T071500
DTEND;TZID=Australia/Perth:20250606T081500
DTSTAMP:20260422T120410
CREATED:20250201T224758Z
LAST-MODIFIED:20250605T222332Z
UID:10021585-1749194100-1749197700@www.ccgs.wa.edu.au
SUMMARY:Senior Guitar Ensemble
DESCRIPTION:
URL:https://www.ccgs.wa.edu.au/event/senior-guitar-ensemble-129
LOCATION:Rock Room 8
CATEGORIES:Senior School Music & Drama
END:VEVENT
BEGIN:VEVENT
DTSTART;TZID=Australia/Perth:20250605T151500
DTEND;TZID=Australia/Perth:20250605T161500
DTSTAMP:20260422T120410
CREATED:20250201T224758Z
LAST-MODIFIED:20250604T220420Z
UID:10021584-1749136500-1749140100@www.ccgs.wa.edu.au
SUMMARY:Double Reed Ensemble
DESCRIPTION:
URL:https://www.ccgs.wa.edu.au/event/double-reed-ensemble-16
LOCATION:Rock Room 8
CATEGORIES:Senior School Music & Drama
END:VEVENT
BEGIN:VEVENT
DTSTART;TZID=Australia/Perth:20250604T071500
DTEND;TZID=Australia/Perth:20250604T081500
DTSTAMP:20260422T120410
CREATED:20250201T224755Z
LAST-MODIFIED:20250603T215322Z
UID:10021577-1749021300-1749024900@www.ccgs.wa.edu.au
SUMMARY:Senior Guitar Quartet
DESCRIPTION:
URL:https://www.ccgs.wa.edu.au/event/senior-guitar-quartet-125
LOCATION:Rock Room 8
CATEGORIES:Senior School Music & Drama
END:VEVENT
BEGIN:VEVENT
DTSTART;TZID=Australia/Perth:20250603T071500
DTEND;TZID=Australia/Perth:20250603T081500
DTSTAMP:20260422T120410
CREATED:20250201T224754Z
LAST-MODIFIED:20250602T213852Z
UID:10021573-1748934900-1748938500@www.ccgs.wa.edu.au
SUMMARY:Guzheng Ensemble
DESCRIPTION:
URL:https://www.ccgs.wa.edu.au/event/guzheng-ensemble-84
LOCATION:Rock Room 8
CATEGORIES:Senior School Music & Drama
END:VEVENT
BEGIN:VEVENT
DTSTART;TZID=Australia/Perth:20250530T071500
DTEND;TZID=Australia/Perth:20250530T081500
DTSTAMP:20260422T120410
CREATED:20250201T224751Z
LAST-MODIFIED:20250529T203411Z
UID:10021567-1748589300-1748592900@www.ccgs.wa.edu.au
SUMMARY:Senior Guitar Ensemble
DESCRIPTION:
URL:https://www.ccgs.wa.edu.au/event/senior-guitar-ensemble-128
LOCATION:Rock Room 8
CATEGORIES:Senior School Music & Drama
END:VEVENT
BEGIN:VEVENT
DTSTART;TZID=Australia/Perth:20250529T151500
DTEND;TZID=Australia/Perth:20250529T161500
DTSTAMP:20260422T120410
CREATED:20250201T224749Z
LAST-MODIFIED:20250528T201913Z
UID:10021565-1748531700-1748535300@www.ccgs.wa.edu.au
SUMMARY:Double Reed Ensemble
DESCRIPTION:
URL:https://www.ccgs.wa.edu.au/event/double-reed-ensemble-15
LOCATION:Rock Room 8
CATEGORIES:Senior School Music & Drama
END:VEVENT
BEGIN:VEVENT
DTSTART;TZID=Australia/Perth:20250528T071500
DTEND;TZID=Australia/Perth:20250528T081500
DTSTAMP:20260422T120410
CREATED:20250201T224745Z
LAST-MODIFIED:20250527T200437Z
UID:10021557-1748416500-1748420100@www.ccgs.wa.edu.au
SUMMARY:Senior Guitar Quartet
DESCRIPTION:
URL:https://www.ccgs.wa.edu.au/event/senior-guitar-quartet-124
LOCATION:Rock Room 8
CATEGORIES:Senior School Music & Drama
END:VEVENT
END:VCALENDAR