BEGIN:VCALENDAR
VERSION:2.0
PRODID:-//CCGS - ECPv6.15.15//NONSGML v1.0//EN
CALSCALE:GREGORIAN
METHOD:PUBLISH
X-ORIGINAL-URL:https://www.ccgs.wa.edu.au
X-WR-CALDESC:Events for CCGS
REFRESH-INTERVAL;VALUE=DURATION:PT1H
X-Robots-Tag:noindex
X-PUBLISHED-TTL:PT1H
BEGIN:VTIMEZONE
TZID:Australia/Perth
BEGIN:STANDARD
TZOFFSETFROM:+0800
TZOFFSETTO:+0800
TZNAME:AWST
DTSTART:20240101T000000
END:STANDARD
END:VTIMEZONE
BEGIN:VEVENT
DTSTART;TZID=Australia/Perth:20250515T151500
DTEND;TZID=Australia/Perth:20250515T161500
DTSTAMP:20260422T163249
CREATED:20250201T224724Z
LAST-MODIFIED:20250514T215334Z
UID:10021527-1747322100-1747325700@www.ccgs.wa.edu.au
SUMMARY:Double Reed Ensemble
DESCRIPTION:
URL:https://www.ccgs.wa.edu.au/event/double-reed-ensemble-13
LOCATION:Rock Room 8
CATEGORIES:Senior School Music & Drama
END:VEVENT
BEGIN:VEVENT
DTSTART;TZID=Australia/Perth:20250515T071500
DTEND;TZID=Australia/Perth:20250515T081500
DTSTAMP:20260422T163249
CREATED:20250130T031914Z
LAST-MODIFIED:20250503T062405Z
UID:10020882-1747293300-1747296900@www.ccgs.wa.edu.au
SUMMARY:Guzheng Ensemble
DESCRIPTION:
URL:https://www.ccgs.wa.edu.au/event/guzheng-ensemble-45
LOCATION:Rock Room 8
CATEGORIES:Prep School Events
END:VEVENT
BEGIN:VEVENT
DTSTART;TZID=Australia/Perth:20250514T071500
DTEND;TZID=Australia/Perth:20250514T081500
DTSTAMP:20260422T163249
CREATED:20250201T224719Z
LAST-MODIFIED:20250513T214914Z
UID:10021520-1747206900-1747210500@www.ccgs.wa.edu.au
SUMMARY:Senior Guitar Quartet
DESCRIPTION:
URL:https://www.ccgs.wa.edu.au/event/senior-guitar-quartet-122
LOCATION:Rock Room 8
CATEGORIES:Senior School Music & Drama
END:VEVENT
BEGIN:VEVENT
DTSTART;TZID=Australia/Perth:20250513T071500
DTEND;TZID=Australia/Perth:20250513T081500
DTSTAMP:20260422T163249
CREATED:20250201T224717Z
LAST-MODIFIED:20250512T213836Z
UID:10021516-1747120500-1747124100@www.ccgs.wa.edu.au
SUMMARY:Guzheng Ensemble
DESCRIPTION:
URL:https://www.ccgs.wa.edu.au/event/guzheng-ensemble-81
LOCATION:Rock Room 8
CATEGORIES:Senior School Music & Drama
END:VEVENT
BEGIN:VEVENT
DTSTART;TZID=Australia/Perth:20250509T071500
DTEND;TZID=Australia/Perth:20250509T081500
DTSTAMP:20260422T163249
CREATED:20250201T224714Z
LAST-MODIFIED:20250508T204912Z
UID:10021509-1746774900-1746778500@www.ccgs.wa.edu.au
SUMMARY:Senior Guitar Ensemble
DESCRIPTION:
URL:https://www.ccgs.wa.edu.au/event/senior-guitar-ensemble-125
LOCATION:Rock Room 8
CATEGORIES:Senior School Music & Drama
END:VEVENT
BEGIN:VEVENT
DTSTART;TZID=Australia/Perth:20250508T151500
DTEND;TZID=Australia/Perth:20250508T161500
DTSTAMP:20260422T163249
CREATED:20250201T224714Z
LAST-MODIFIED:20250507T203837Z
UID:10021508-1746717300-1746720900@www.ccgs.wa.edu.au
SUMMARY:Double Reed Ensemble
DESCRIPTION:
URL:https://www.ccgs.wa.edu.au/event/double-reed-ensemble-12
LOCATION:Rock Room 8
CATEGORIES:Senior School Music & Drama
END:VEVENT
BEGIN:VEVENT
DTSTART;TZID=Australia/Perth:20250508T071500
DTEND;TZID=Australia/Perth:20250508T081500
DTSTAMP:20260422T163249
CREATED:20250130T031828Z
LAST-MODIFIED:20250503T062354Z
UID:10020866-1746688500-1746692100@www.ccgs.wa.edu.au
SUMMARY:Guzheng Ensemble
DESCRIPTION:
URL:https://www.ccgs.wa.edu.au/event/guzheng-ensemble-44
LOCATION:Rock Room 8
CATEGORIES:Prep School Events
END:VEVENT
BEGIN:VEVENT
DTSTART;TZID=Australia/Perth:20250507T071500
DTEND;TZID=Australia/Perth:20250507T081500
DTSTAMP:20260422T163249
CREATED:20250201T224709Z
LAST-MODIFIED:20250506T202321Z
UID:10021500-1746602100-1746605700@www.ccgs.wa.edu.au
SUMMARY:Senior Guitar Quartet
DESCRIPTION:
URL:https://www.ccgs.wa.edu.au/event/senior-guitar-quartet-121
LOCATION:Rock Room 8
CATEGORIES:Senior School Music & Drama
END:VEVENT
BEGIN:VEVENT
DTSTART;TZID=Australia/Perth:20250506T071500
DTEND;TZID=Australia/Perth:20250506T081500
DTSTAMP:20260422T163249
CREATED:20250201T224708Z
LAST-MODIFIED:20250505T200853Z
UID:10021498-1746515700-1746519300@www.ccgs.wa.edu.au
SUMMARY:Guzheng Ensemble
DESCRIPTION:
URL:https://www.ccgs.wa.edu.au/event/guzheng-ensemble-80
LOCATION:Rock Room 8
CATEGORIES:Senior School Music & Drama
END:VEVENT
BEGIN:VEVENT
DTSTART;TZID=Australia/Perth:20250502T071500
DTEND;TZID=Australia/Perth:20250502T081500
DTSTAMP:20260422T163249
CREATED:20250201T224704Z
LAST-MODIFIED:20250501T235803Z
UID:10021491-1746170100-1746173700@www.ccgs.wa.edu.au
SUMMARY:Senior Guitar Ensemble
DESCRIPTION:
URL:https://www.ccgs.wa.edu.au/event/senior-guitar-ensemble-124
LOCATION:Rock Room 8
CATEGORIES:Senior School Music & Drama
END:VEVENT
BEGIN:VEVENT
DTSTART;TZID=Australia/Perth:20250501T151500
DTEND;TZID=Australia/Perth:20250501T161500
DTSTAMP:20260422T163249
CREATED:20250201T224703Z
LAST-MODIFIED:20250430T234420Z
UID:10021489-1746112500-1746116100@www.ccgs.wa.edu.au
SUMMARY:Double Reed Ensemble
DESCRIPTION:
URL:https://www.ccgs.wa.edu.au/event/double-reed-ensemble-11
LOCATION:Rock Room 8
CATEGORIES:Senior School Music & Drama
END:VEVENT
BEGIN:VEVENT
DTSTART;TZID=Australia/Perth:20250430T071500
DTEND;TZID=Australia/Perth:20250430T081500
DTSTAMP:20260422T163249
CREATED:20250201T224700Z
LAST-MODIFIED:20250429T231911Z
UID:10021482-1745997300-1746000900@www.ccgs.wa.edu.au
SUMMARY:Senior Guitar Quartet
DESCRIPTION:
URL:https://www.ccgs.wa.edu.au/event/senior-guitar-quartet-120
LOCATION:Rock Room 8
CATEGORIES:Senior School Music & Drama
END:VEVENT
BEGIN:VEVENT
DTSTART;TZID=Australia/Perth:20250429T071500
DTEND;TZID=Australia/Perth:20250429T081500
DTSTAMP:20260422T163249
CREATED:20250201T224658Z
LAST-MODIFIED:20250428T230412Z
UID:10021477-1745910900-1745914500@www.ccgs.wa.edu.au
SUMMARY:Guzheng Ensemble
DESCRIPTION:
URL:https://www.ccgs.wa.edu.au/event/guzheng-ensemble-79
LOCATION:Rock Room 8
CATEGORIES:Senior School Music & Drama
END:VEVENT
END:VCALENDAR