BEGIN:VCALENDAR
VERSION:2.0
PRODID:-//CCGS - ECPv6.15.20//NONSGML v1.0//EN
CALSCALE:GREGORIAN
METHOD:PUBLISH
X-WR-CALNAME:CCGS
X-ORIGINAL-URL:https://www.ccgs.wa.edu.au
X-WR-CALDESC:Events for CCGS
REFRESH-INTERVAL;VALUE=DURATION:PT1H
X-Robots-Tag:noindex
X-PUBLISHED-TTL:PT1H
BEGIN:VTIMEZONE
TZID:Australia/Perth
BEGIN:STANDARD
TZOFFSETFROM:+0800
TZOFFSETTO:+0800
TZNAME:AWST
DTSTART:20250101T000000
END:STANDARD
END:VTIMEZONE
BEGIN:VEVENT
DTSTART;TZID=Australia/Perth:20260501T115500
DTEND;TZID=Australia/Perth:20260501T124500
DTSTAMP:20260425T020831
CREATED:20251217T024147Z
LAST-MODIFIED:20260421T045219Z
UID:10024270-1777636500-1777639500@www.ccgs.wa.edu.au
SUMMARY:Peer Support Session #3
DESCRIPTION:
URL:https://www.ccgs.wa.edu.au/event/peer-support-session-3-4
LOCATION:Rooms TBC
CATEGORIES:Senior School Events
END:VEVENT
BEGIN:VEVENT
DTSTART;TZID=Australia/Perth:20260605T094500
DTEND;TZID=Australia/Perth:20260605T104000
DTSTAMP:20260425T020831
CREATED:20251217T024349Z
LAST-MODIFIED:20260421T045523Z
UID:10024331-1780652700-1780656000@www.ccgs.wa.edu.au
SUMMARY:Peer Support Session #4
DESCRIPTION:
URL:https://www.ccgs.wa.edu.au/event/peer-support-session-4-5
LOCATION:Rooms TBC
CATEGORIES:Senior School Events
END:VEVENT
BEGIN:VEVENT
DTSTART;TZID=Australia/Perth:20260731T085500
DTEND;TZID=Australia/Perth:20260731T094500
DTSTAMP:20260425T020831
CREATED:20251217T024529Z
LAST-MODIFIED:20260421T045754Z
UID:10024385-1785488100-1785491100@www.ccgs.wa.edu.au
SUMMARY:Peer Support Session #5
DESCRIPTION:
URL:https://www.ccgs.wa.edu.au/event/peer-support-session-5-4
LOCATION:Rooms TBC
CATEGORIES:Senior School Events
END:VEVENT
END:VCALENDAR