BEGIN:VCALENDAR
VERSION:2.0
PRODID:-//CCGS - ECPv6.15.20//NONSGML v1.0//EN
CALSCALE:GREGORIAN
METHOD:PUBLISH
X-WR-CALNAME:CCGS
X-ORIGINAL-URL:https://www.ccgs.wa.edu.au
X-WR-CALDESC:Events for CCGS
REFRESH-INTERVAL;VALUE=DURATION:PT1H
X-Robots-Tag:noindex
X-PUBLISHED-TTL:PT1H
BEGIN:VTIMEZONE
TZID:Australia/Perth
BEGIN:STANDARD
TZOFFSETFROM:+0800
TZOFFSETTO:+0800
TZNAME:AWST
DTSTART:20240101T000000
END:STANDARD
END:VTIMEZONE
BEGIN:VEVENT
DTSTART;TZID=Australia/Perth:20250622T140000
DTEND;TZID=Australia/Perth:20250622T160000
DTSTAMP:20260423T155536
CREATED:20250213T233130Z
LAST-MODIFIED:20250621T233434Z
UID:10022150-1750600800-1750608000@www.ccgs.wa.edu.au
SUMMARY:PA - Year 2 Mums and Sons Bowling
DESCRIPTION:
URL:https://www.ccgs.wa.edu.au/event/pa-year-2-mums-and-sons-bowling
LOCATION:Super Bowl Melville
CATEGORIES:Parents Events
END:VEVENT
END:VCALENDAR