BEGIN:VCALENDAR
VERSION:2.0
PRODID:-//CCGS - ECPv6.15.20//NONSGML v1.0//EN
CALSCALE:GREGORIAN
METHOD:PUBLISH
X-WR-CALNAME:CCGS
X-ORIGINAL-URL:https://www.ccgs.wa.edu.au
X-WR-CALDESC:Events for CCGS
REFRESH-INTERVAL;VALUE=DURATION:PT1H
X-Robots-Tag:noindex
X-PUBLISHED-TTL:PT1H
BEGIN:VTIMEZONE
TZID:Australia/Perth
BEGIN:STANDARD
TZOFFSETFROM:+0800
TZOFFSETTO:+0800
TZNAME:AWST
DTSTART:20240101T000000
END:STANDARD
END:VTIMEZONE
BEGIN:VEVENT
DTSTART;TZID=Australia/Perth:20250809T093000
DTEND;TZID=Australia/Perth:20250809T113000
DTSTAMP:20260424T054801
CREATED:20250123T235507Z
LAST-MODIFIED:20250808T234811Z
UID:10020671-1754731800-1754739000@www.ccgs.wa.edu.au
SUMMARY:PSA Cross Country - all schools 3 x 5km RELAY
DESCRIPTION:
URL:https://www.ccgs.wa.edu.au/event/psa-cross-country-all-schools-3-x-5km-relay-4
LOCATION:Trinity TBC
CATEGORIES:Senior School Sport
END:VEVENT
BEGIN:VEVENT
DTSTART;TZID=Australia/Perth:20250808T140000
DTEND;TZID=Australia/Perth:20250808T160000
DTSTAMP:20260424T054801
CREATED:20250123T235507Z
LAST-MODIFIED:20250807T233309Z
UID:10020670-1754661600-1754668800@www.ccgs.wa.edu.au
SUMMARY:PSA Cross Country - all schools 2 x 3km RELAY
DESCRIPTION:
URL:https://www.ccgs.wa.edu.au/event/psa-cross-country-all-schools-2-x-3km-relay-4
LOCATION:Trinity TBC
CATEGORIES:Senior School Sport
END:VEVENT
END:VCALENDAR