BEGIN:VCALENDAR
VERSION:2.0
PRODID:-//CCGS - ECPv6.15.15//NONSGML v1.0//EN
CALSCALE:GREGORIAN
METHOD:PUBLISH
X-ORIGINAL-URL:https://www.ccgs.wa.edu.au
X-WR-CALDESC:Events for CCGS
REFRESH-INTERVAL;VALUE=DURATION:PT1H
X-Robots-Tag:noindex
X-PUBLISHED-TTL:PT1H
BEGIN:VTIMEZONE
TZID:Australia/Perth
BEGIN:STANDARD
TZOFFSETFROM:+0800
TZOFFSETTO:+0800
TZNAME:AWST
DTSTART:20240101T000000
END:STANDARD
END:VTIMEZONE
BEGIN:VEVENT
DTSTART;TZID=Australia/Perth:20251015T124500
DTEND;TZID=Australia/Perth:20251015T132000
DTSTAMP:20260422T082052
CREATED:20250130T033355Z
LAST-MODIFIED:20251002T235026Z
UID:10021169-1760532300-1760534400@www.ccgs.wa.edu.au
SUMMARY:Piano Duet Club
DESCRIPTION:
URL:https://www.ccgs.wa.edu.au/event/piano-duet-club-54
LOCATION:Undercroft
CATEGORIES:Prep School Events
END:VEVENT
BEGIN:VEVENT
DTSTART;TZID=Australia/Perth:20250625T124500
DTEND;TZID=Australia/Perth:20250625T132000
DTSTAMP:20260422T082052
CREATED:20250130T032311Z
LAST-MODIFIED:20250616T161937Z
UID:10020981-1750855500-1750857600@www.ccgs.wa.edu.au
SUMMARY:Piano Duet Club
DESCRIPTION:
URL:https://www.ccgs.wa.edu.au/event/piano-duet-club-43
LOCATION:Undercroft
CATEGORIES:Prep School Events
END:VEVENT
BEGIN:VEVENT
DTSTART;TZID=Australia/Perth:20250618T124500
DTEND;TZID=Australia/Perth:20250618T132000
DTSTAMP:20260422T082052
CREATED:20250130T032214Z
LAST-MODIFIED:20250616T161921Z
UID:10020965-1750250700-1750252800@www.ccgs.wa.edu.au
SUMMARY:Piano Duet Club
DESCRIPTION:
URL:https://www.ccgs.wa.edu.au/event/piano-duet-club-42
LOCATION:Undercroft
CATEGORIES:Prep School Events
END:VEVENT
BEGIN:VEVENT
DTSTART;TZID=Australia/Perth:20250514T124500
DTEND;TZID=Australia/Perth:20250514T132000
DTSTAMP:20260422T082052
CREATED:20250130T031907Z
LAST-MODIFIED:20250503T062402Z
UID:10020880-1747226700-1747228800@www.ccgs.wa.edu.au
SUMMARY:Piano Duet Club
DESCRIPTION:
URL:https://www.ccgs.wa.edu.au/event/piano-duet-club-37
LOCATION:Undercroft
CATEGORIES:Prep School Events
END:VEVENT
BEGIN:VEVENT
DTSTART;TZID=Australia/Perth:20250507T124500
DTEND;TZID=Australia/Perth:20250507T132000
DTSTAMP:20260422T082052
CREATED:20250130T031823Z
LAST-MODIFIED:20250503T062354Z
UID:10020862-1746621900-1746624000@www.ccgs.wa.edu.au
SUMMARY:Piano Duet Club
DESCRIPTION:
URL:https://www.ccgs.wa.edu.au/event/piano-duet-club-36
LOCATION:Undercroft
CATEGORIES:Prep School Events
END:VEVENT
END:VCALENDAR