BEGIN:VCALENDAR
VERSION:2.0
PRODID:-//CCGS - ECPv6.15.15//NONSGML v1.0//EN
CALSCALE:GREGORIAN
METHOD:PUBLISH
X-ORIGINAL-URL:https://www.ccgs.wa.edu.au
X-WR-CALDESC:Events for CCGS
REFRESH-INTERVAL;VALUE=DURATION:PT1H
X-Robots-Tag:noindex
X-PUBLISHED-TTL:PT1H
BEGIN:VTIMEZONE
TZID:Australia/Perth
BEGIN:STANDARD
TZOFFSETFROM:+0800
TZOFFSETTO:+0800
TZNAME:AWST
DTSTART:20250101T000000
END:STANDARD
END:VTIMEZONE
BEGIN:VEVENT
DTSTART;TZID=Australia/Perth:20260511T080000
DTEND;TZID=Australia/Perth:20260511T150000
DTSTAMP:20260423T033749
CREATED:20251217T024243Z
LAST-MODIFIED:20260421T045338Z
UID:10024297-1778486400-1778511600@www.ccgs.wa.edu.au
SUMMARY:Da Vinci Decathlon : Years 9 & 10
DESCRIPTION:
URL:https://www.ccgs.wa.edu.au/event/da-vinci-decathlon-years-9-10-3
LOCATION:UWA
CATEGORIES:Senior School Events
END:VEVENT
BEGIN:VEVENT
DTSTART;TZID=Australia/Perth:20260512T080000
DTEND;TZID=Australia/Perth:20260512T150000
DTSTAMP:20260423T033749
CREATED:20251217T024249Z
LAST-MODIFIED:20260421T045346Z
UID:10024304-1778572800-1778598000@www.ccgs.wa.edu.au
SUMMARY:Da Vinci Decathlon : Years 7 & 8
DESCRIPTION:
URL:https://www.ccgs.wa.edu.au/event/da-vinci-decathlon-years-7-8-3
LOCATION:UWA
CATEGORIES:Senior School Events
END:VEVENT
BEGIN:VEVENT
DTSTART;TZID=Australia/Perth:20260527T160000
DTEND;TZID=Australia/Perth:20260527T173000
DTSTAMP:20260423T033749
CREATED:20260205T234655Z
LAST-MODIFIED:20260419T234737Z
UID:10025111-1779897600-1779903000@www.ccgs.wa.edu.au
SUMMARY:PSA Model UN Workshop
DESCRIPTION:
URL:https://www.ccgs.wa.edu.au/event/psa-model-un-workshop-2
LOCATION:UWA
CATEGORIES:Senior School Sport
END:VEVENT
BEGIN:VEVENT
DTSTART;TZID=Australia/Perth:20260618T083000
DTEND;TZID=Australia/Perth:20260618T143000
DTSTAMP:20260423T033749
CREATED:20260128T053025Z
LAST-MODIFIED:20260421T045631Z
UID:10025007-1781771400-1781793000@www.ccgs.wa.edu.au
SUMMARY:BiG Day in Perth - Computer Science Expo (Y11/12 CSC)
DESCRIPTION:
URL:https://www.ccgs.wa.edu.au/event/big-day-in-perth-computer-science-expo-y11-12-csc
LOCATION:UWA
CATEGORIES:Senior School Events
END:VEVENT
BEGIN:VEVENT
DTSTART;TZID=Australia/Perth:20260624T160000
DTEND;TZID=Australia/Perth:20260624T203000
DTSTAMP:20260423T033749
CREATED:20260205T234702Z
LAST-MODIFIED:20260419T234744Z
UID:10025113-1782316800-1782333000@www.ccgs.wa.edu.au
SUMMARY:PSA Model UN
DESCRIPTION:
URL:https://www.ccgs.wa.edu.au/event/psa-model-un
LOCATION:UWA
CATEGORIES:Senior School Sport
END:VEVENT
BEGIN:VEVENT
DTSTART;TZID=Australia/Perth:20260904T110000
DTEND;TZID=Australia/Perth:20260904T130000
DTSTAMP:20260423T033749
CREATED:20250918T024723Z
LAST-MODIFIED:20260421T050055Z
UID:10023248-1788519600-1788526800@www.ccgs.wa.edu.au
SUMMARY:Google Conference (Y10-12 Engineering)
DESCRIPTION:
URL:https://www.ccgs.wa.edu.au/event/google-conference-y10-12-engineering-3
LOCATION:UWA
CATEGORIES:Senior School Events
END:VEVENT
BEGIN:VEVENT
DTSTART;TZID=Australia/Perth:20260915T160000
DTEND;TZID=Australia/Perth:20260915T210000
DTSTAMP:20260423T033749
CREATED:20251217T024804Z
LAST-MODIFIED:20260421T050234Z
UID:10024462-1789488000-1789506000@www.ccgs.wa.edu.au
SUMMARY:Years 7 - 11 Philosothon (TBC)
DESCRIPTION:
URL:https://www.ccgs.wa.edu.au/event/years-7-11-philosothon-tbc
LOCATION:UWA
CATEGORIES:Senior School Events
END:VEVENT
BEGIN:VEVENT
DTSTART;TZID=Australia/Perth:20261003T080000
DTEND;TZID=Australia/Perth:20261003T130000
DTSTAMP:20260423T033749
CREATED:20251217T024843Z
LAST-MODIFIED:20260421T050340Z
UID:10024477-1791014400-1791032400@www.ccgs.wa.edu.au
SUMMARY:WA Junior Mathematics Olympiad (WAJO)
DESCRIPTION:
URL:https://www.ccgs.wa.edu.au/event/wa-junior-mathematics-olympiad-wajo-6
LOCATION:UWA
CATEGORIES:Senior School Events
END:VEVENT
BEGIN:VEVENT
DTSTART;TZID=Australia/Perth:20261110T090000
DTEND;TZID=Australia/Perth:20261110T143000
DTSTAMP:20260423T033749
CREATED:20251217T025032Z
LAST-MODIFIED:20260421T050702Z
UID:10024541-1794301200-1794321000@www.ccgs.wa.edu.au
SUMMARY:UWA Kambarang Program Year 8 TBC)
DESCRIPTION:
URL:https://www.ccgs.wa.edu.au/event/uwa-kambarang-program-year-8-tbc
LOCATION:UWA
CATEGORIES:Senior School Events
END:VEVENT
BEGIN:VEVENT
DTSTART;TZID=Australia/Perth:20261111T090000
DTEND;TZID=Australia/Perth:20261111T143000
DTSTAMP:20260423T033749
CREATED:20251217T025035Z
LAST-MODIFIED:20260421T050709Z
UID:10024546-1794387600-1794407400@www.ccgs.wa.edu.au
SUMMARY:UWA Kambarang Program Year 8 TBC)
DESCRIPTION:
URL:https://www.ccgs.wa.edu.au/event/uwa-kambarang-program-year-8-tbc-2
LOCATION:UWA
CATEGORIES:Senior School Events
END:VEVENT
BEGIN:VEVENT
DTSTART;TZID=Australia/Perth:20261112T090000
DTEND;TZID=Australia/Perth:20261112T143000
DTSTAMP:20260423T033749
CREATED:20251217T025036Z
LAST-MODIFIED:20260421T050723Z
UID:10024547-1794474000-1794493800@www.ccgs.wa.edu.au
SUMMARY:UWA Kambarang Program Year 8 TBC)
DESCRIPTION:
URL:https://www.ccgs.wa.edu.au/event/uwa-kambarang-program-year-8-tbc-3
LOCATION:UWA
CATEGORIES:Senior School Events
END:VEVENT
BEGIN:VEVENT
DTSTART;TZID=Australia/Perth:20270203T083000
DTEND;TZID=Australia/Perth:20270203T150000
DTSTAMP:20260423T033749
CREATED:20260206T093320Z
LAST-MODIFIED:20260421T033900Z
UID:10025117-1801643400-1801666800@www.ccgs.wa.edu.au
SUMMARY:Ad Astra
DESCRIPTION:
URL:https://www.ccgs.wa.edu.au/event/ad-astra
LOCATION:UWA
CATEGORIES:Senior School Events
END:VEVENT
END:VCALENDAR