BEGIN:VCALENDAR
VERSION:2.0
PRODID:-//CCGS - ECPv6.15.15//NONSGML v1.0//EN
CALSCALE:GREGORIAN
METHOD:PUBLISH
X-ORIGINAL-URL:https://www.ccgs.wa.edu.au
X-WR-CALDESC:Events for CCGS
REFRESH-INTERVAL;VALUE=DURATION:PT1H
X-Robots-Tag:noindex
X-PUBLISHED-TTL:PT1H
BEGIN:VTIMEZONE
TZID:Australia/Perth
BEGIN:STANDARD
TZOFFSETFROM:+0800
TZOFFSETTO:+0800
TZNAME:AWST
DTSTART:20250101T000000
END:STANDARD
END:VTIMEZONE
BEGIN:VEVENT
DTSTART;TZID=Australia/Perth:20260429T115500
DTEND;TZID=Australia/Perth:20260429T125500
DTSTAMP:20260422T083527
CREATED:20251217T024142Z
LAST-MODIFIED:20260421T045209Z
UID:10024267-1777463700-1777467300@www.ccgs.wa.edu.au
SUMMARY:Year 11 Study Skills
DESCRIPTION:
URL:https://www.ccgs.wa.edu.au/event/year-11-study-skills-5
LOCATION:Various Rooms
CATEGORIES:Senior School Events
END:VEVENT
BEGIN:VEVENT
DTSTART;TZID=Australia/Perth:20260512T093000
DTEND;TZID=Australia/Perth:20260512T104000
DTSTAMP:20260422T083527
CREATED:20251217T024248Z
LAST-MODIFIED:20260421T045350Z
UID:10024303-1778578200-1778582400@www.ccgs.wa.edu.au
SUMMARY:Year 10 Study Skills Program
DESCRIPTION:
URL:https://www.ccgs.wa.edu.au/event/year-10-study-skills-program-4
LOCATION:Various Rooms
CATEGORIES:Senior School Events
END:VEVENT
BEGIN:VEVENT
DTSTART;TZID=Australia/Perth:20260604T115500
DTEND;TZID=Australia/Perth:20260604T124500
DTSTAMP:20260422T083527
CREATED:20251217T024345Z
LAST-MODIFIED:20260421T045519Z
UID:10024329-1780574100-1780577100@www.ccgs.wa.edu.au
SUMMARY:Year 12 Study Skills
DESCRIPTION:
URL:https://www.ccgs.wa.edu.au/event/year-12-study-skills-6
LOCATION:Various Rooms
CATEGORIES:Senior School Events
END:VEVENT
BEGIN:VEVENT
DTSTART;TZID=Australia/Perth:20260729T085500
DTEND;TZID=Australia/Perth:20260729T124500
DTSTAMP:20260422T083527
CREATED:20251217T024522Z
LAST-MODIFIED:20260421T045739Z
UID:10024379-1785315300-1785329100@www.ccgs.wa.edu.au
SUMMARY:Year 7 & 8 Academic Testing
DESCRIPTION:
URL:https://www.ccgs.wa.edu.au/event/year-7-8-academic-testing
LOCATION:Various Rooms
CATEGORIES:Senior School Events
END:VEVENT
END:VCALENDAR